BEGIN:VCALENDAR
VERSION:2.0
PRODID:-//Plone.org//NONSGML plone.app.event//EN
X-WR-TIMEZONE:Europe/Madrid
BEGIN:VEVENT
SUMMARY:Lectura de tesis Niels Van der Berg
DTSTART;TZID=Europe/Madrid:20120511T110000
DTEND;TZID=Europe/Madrid:20120511T130000
DTSTAMP:20260425T002433Z
UID:2b4509ec-c151-4067-8fe4-4c6117a1afee@peter7.upc.edu:11901
CREATED:20120507T121700Z
LAST-MODIFIED:20120507T121700Z
URL:https://df.upc.edu/en/events/lectura-de-tesis-niels-van-der-berg
END:VEVENT
BEGIN:VTIMEZONE
TZID:Europe/Madrid
X-LIC-LOCATION:Europe/Madrid
BEGIN:DAYLIGHT
DTSTART:20120325T030000
TZNAME:CEST
TZOFFSETFROM:+0100
TZOFFSETTO:+0200
END:DAYLIGHT
END:VTIMEZONE
END:VCALENDAR
